BEGIN:VCALENDAR
VERSION:2.0
PRODID:-//hacksw/handcal//NONSGML v1.0//EN
BEGIN:VEVENT
SUMMARY:AGR : TT SOUFFEL 1 v/s STBG RACING CLUB 1
UID:3f8f8c9b-1c7e-4924-aa6a-760b914149aa
DTSTART:20260331T180000Z
DTEND:20260331T204500Z
LOCATION:Localisation   
CATEGORIES:Sportif
STATUS:
URL;VALUE=URI:https://ttsouffel.sportsregions.fr/evenements/2026/03/31/agr-tt-souffel-1-vs-stbg-racing-club-1-2282605
END:VEVENT
END:VCALENDAR
